BEGIN:VCALENDAR
VERSION:2.0
PRODID:-//Plone.org//NONSGML plone.app.event//EN
X-WR-TIMEZONE:US/Eastern
BEGIN:VEVENT
SUMMARY:Story Hour
DTSTART;TZID=US/Eastern:20220804T100000
DTEND;TZID=US/Eastern:20220804T110000
DTSTAMP:20260422T180903Z
UID:4e1727b0604b45d2a343d11da525af77@saas_stack_varnish:6080
RRULE:FREQ=DAILY;UNTIL=20220820T000000;INTERVAL=7
EXDATE;TZID=US/Eastern:20220825T000000,20220901T000000,20220908T000000,202
 20915T000000,20220922T000000,20220929T000000,20221006T000000,20221124T0000
 00
CONTACT:Samantha Bontrager\, 12314482701\, island.library@gmail.com
CREATED:20220805T151644Z
DESCRIPTION:Preschool kids are invited to a weekly story hour at 10 a.m. o
 n Thursdays
LAST-MODIFIED:20220819T183832Z
LOCATION:Beaver Island District Library
URL:https://www.beaverisland.michlibrary.org/story-hour
END:VEVENT
BEGIN:VTIMEZONE
TZID:US/Eastern
X-LIC-LOCATION:US/Eastern
BEGIN:DAYLIGHT
DTSTART:20220313T030000
TZNAME:EDT
TZOFFSETFROM:-0500
TZOFFSETTO:-0400
END:DAYLIGHT
END:VTIMEZONE
END:VCALENDAR
