BEGIN:VCALENDAR
VERSION:2.0
PRODID:-//Plone.org//NONSGML plone.app.event//EN
X-WR-TIMEZONE:US/Eastern
BEGIN:VEVENT
SUMMARY:Story Hour
DTSTART;TZID=US/Eastern:20220818T100000
DTEND;TZID=US/Eastern:20220818T110000
DTSTAMP:20260422T175750Z
UID:4e1727b0604b45d2a343d11da525af77@saas_stack_varnish:6080
CONTACT:Samantha Bontrager\, 12314482701\, island.library@gmail.com
CREATED:20220805T151644Z
DESCRIPTION:Preschool kids are invited to a weekly story hour at 10 a.m. o
 n Thursdays
LAST-MODIFIED:20220819T183832Z
LOCATION:Beaver Island District Library
URL:https://www.beaverisland.michlibrary.org/story-hour/2022-08-18
END:VEVENT
BEGIN:VTIMEZONE
TZID:US/Eastern
X-LIC-LOCATION:US/Eastern
BEGIN:DAYLIGHT
DTSTART:20220313T030000
TZNAME:EDT
TZOFFSETFROM:-0500
TZOFFSETTO:-0400
END:DAYLIGHT
END:VTIMEZONE
END:VCALENDAR
