BEGIN:VCALENDAR
VERSION:2.0
PRODID:-//Plone.org//NONSGML plone.app.event//EN
X-WR-TIMEZONE:US/Eastern
BEGIN:VEVENT
SUMMARY:NEA Big Read Movies for April
DTSTART;TZID=US/Eastern:20260411T150000
DTEND;TZID=US/Eastern:20260411T160000
DTSTAMP:20260422T163642Z
UID:20c3daef83674e78a9e1b467065bd7cf@saas_stack_varnish:6080
CONTACT:Jacqueline L LaFreniere\, 2314482701\, island.library@gmail.com
CREATED:20260328T192743Z
DESCRIPTION:Swiss Family Robinson and Cast Away
LAST-MODIFIED:20260328T192748Z
LOCATION:Beaver Island Community Center
URL:https://www.beaverisland.michlibrary.org/nea-big-read-movies-for-april
END:VEVENT
BEGIN:VTIMEZONE
TZID:US/Eastern
X-LIC-LOCATION:US/Eastern
BEGIN:DAYLIGHT
DTSTART:20260308T030000
TZNAME:EDT
TZOFFSETFROM:-0500
TZOFFSETTO:-0400
END:DAYLIGHT
END:VTIMEZONE
END:VCALENDAR
