BEGIN:VCALENDAR
VERSION:2.0
PRODID:-//Plone.org//NONSGML plone.app.event//EN
X-WR-TIMEZONE:US/Eastern
BEGIN:VEVENT
SUMMARY:MI Library Quest for teens
DTSTART;TZID=US/Eastern:20240619T000000
DTEND;TZID=US/Eastern:20240731T000000
DTSTAMP:20260424T050816Z
UID:412b3cbd5fa0406d82f925e3428c3217@saas_stack_varnish:6080
ATTENDEE;CN=Teens;ROLE=REQ-PARTICIPANT:Teens
CONTACT:Jacqueline L LaFreniere\, 2314482701\, island.library@gmail.com
CREATED:20240613T183124Z
DESCRIPTION:Virtual Escape room\, prizes at the end.
LAST-MODIFIED:20240613T183130Z
LOCATION:Beaver Island District Library
URL:https://www.beaverisland.michlibrary.org/mi-library-quest-for-teens
END:VEVENT
BEGIN:VTIMEZONE
TZID:US/Eastern
X-LIC-LOCATION:US/Eastern
BEGIN:DAYLIGHT
DTSTART:20240310T030000
TZNAME:EDT
TZOFFSETFROM:-0500
TZOFFSETTO:-0400
END:DAYLIGHT
END:VTIMEZONE
END:VCALENDAR
