BEGIN:VCALENDAR
VERSION:2.0
PRODID:-//Plone.org//NONSGML plone.app.event//EN
X-WR-TIMEZONE:US/Eastern
BEGIN:VEVENT
SUMMARY:Jeff Gray\, Marvelous Meteorites
DTSTART;TZID=US/Eastern:20240716T130000
DTEND;TZID=US/Eastern:20240716T140000
DTSTAMP:20260424T050621Z
UID:9f755f1e77624ced900b9c202be0751c@saas_stack_varnish:6080
ATTENDEE;CN=anyone;ROLE=REQ-PARTICIPANT:anyone
CONTACT:Jacqueline LaFreniere\, 2314482701\, island.library@gmail.clom
CREATED:20240711T203418Z
DESCRIPTION:NASA outreach coordinator
LAST-MODIFIED:20240711T203425Z
LOCATION:Beaver Island District Library
URL:https://www.beaverisland.michlibrary.org/jeff-gray-marvelous-meteorite
 s-1
END:VEVENT
BEGIN:VTIMEZONE
TZID:US/Eastern
X-LIC-LOCATION:US/Eastern
BEGIN:DAYLIGHT
DTSTART:20240310T030000
TZNAME:EDT
TZOFFSETFROM:-0500
TZOFFSETTO:-0400
END:DAYLIGHT
END:VTIMEZONE
END:VCALENDAR
