BEGIN:VCALENDAR
VERSION:2.0
PRODID:-//Plone.org//NONSGML plone.app.event//EN
X-WR-TIMEZONE:US/Eastern
BEGIN:VEVENT
SUMMARY:Edible Books at the BIDL
DTSTART;TZID=US/Eastern:20250426T130000
DTEND;TZID=US/Eastern:20250426T150000
DTSTAMP:20260420T135236Z
UID:2f9e78d65bc142a49930057a362b7e04@saas_stack_varnish:6080
ATTENDEE;CN=Everyone!;ROLE=REQ-PARTICIPANT:Everyone!
CONTACT:Tara Walsh\, 2314482701\, island.library@gmail.com
CREATED:20250418T152640Z
DESCRIPTION:Create an edible book and bring to the library to share!
LAST-MODIFIED:20250418T152646Z
LOCATION:Beaver Island District Library
URL:https://www.beaverisland.michlibrary.org/edible-books-at-the-bidl
END:VEVENT
BEGIN:VTIMEZONE
TZID:US/Eastern
X-LIC-LOCATION:US/Eastern
BEGIN:DAYLIGHT
DTSTART:20250309T030000
TZNAME:EDT
TZOFFSETFROM:-0500
TZOFFSETTO:-0400
END:DAYLIGHT
END:VTIMEZONE
END:VCALENDAR
