BEGIN:VCALENDAR
VERSION:2.0
PRODID:-//Plone.org//NONSGML plone.app.event//EN
X-WR-TIMEZONE:US/Eastern
BEGIN:VEVENT
SUMMARY:Edible Book Festival
DTSTART;TZID=US/Eastern:20260425T140000
DTEND;TZID=US/Eastern:20260425T150000
DTSTAMP:20260422T171355Z
UID:6263a217fcc2401885f315a96661ee0a@saas_stack_varnish:6080
CONTACT:Jacqueline L LaFreniere\, 2314482701\, island.library@gmail.com
CREATED:20260328T192946Z
DESCRIPTION:Create an edible book.
LAST-MODIFIED:20260328T192953Z
LOCATION:Beaver Island District Library
URL:https://www.beaverisland.michlibrary.org/edible-book-festival
END:VEVENT
BEGIN:VTIMEZONE
TZID:US/Eastern
X-LIC-LOCATION:US/Eastern
BEGIN:DAYLIGHT
DTSTART:20260308T030000
TZNAME:EDT
TZOFFSETFROM:-0500
TZOFFSETTO:-0400
END:DAYLIGHT
END:VTIMEZONE
END:VCALENDAR
