BEGIN:VCALENDAR
VERSION:2.0
PRODID:-//Plone.org//NONSGML plone.app.event//EN
X-WR-TIMEZONE:US/Eastern
BEGIN:VEVENT
SUMMARY:East Egg Hunt at the BIDL
DTSTART;TZID=US/Eastern:20260404T110000
DTEND;TZID=US/Eastern:20260404T120000
DTSTAMP:20260422T163809Z
UID:720817cb24c64e7fa48b71465ae96e1d@saas_stack_varnish:6080
CONTACT:Jacqueline L LaFreniere\, 2314482701\, island.library@gmail.com
CREATED:20260328T193149Z
DESCRIPTION:Find eggs!
LAST-MODIFIED:20260328T193154Z
LOCATION:Beaver Island District Library
URL:https://www.beaverisland.michlibrary.org/east-egg-hunt-at-the-bidl
END:VEVENT
BEGIN:VTIMEZONE
TZID:US/Eastern
X-LIC-LOCATION:US/Eastern
BEGIN:DAYLIGHT
DTSTART:20260308T030000
TZNAME:EDT
TZOFFSETFROM:-0500
TZOFFSETTO:-0400
END:DAYLIGHT
END:VTIMEZONE
END:VCALENDAR
