BEGIN:VCALENDAR
VERSION:2.0
PRODID:-//Plone.org//NONSGML plone.app.event//EN
X-WR-TIMEZONE:US/Eastern
BEGIN:VEVENT
SUMMARY:Deep Sea Adventure Party
DTSTART;TZID=US/Eastern:20220820T160000
DTEND;TZID=US/Eastern:20220820T170000
DTSTAMP:20260422T180210Z
UID:6f71c3efba87443c988589d26931c275@saas_stack_varnish:6080
CONTACT:Jacqueline LaFreniere\, 12314482701\, island.library@gmail.com
CREATED:20220805T153110Z
DESCRIPTION:End of the Summer Reading Program with a party! Our theme this
  year was Oceans of Possibilities and the end party will celebrate Deep Se
 a Adventure with Fun\, Food and Games!
LAST-MODIFIED:20220805T153121Z
LOCATION:Beaver Island District Library
URL:https://www.beaverisland.michlibrary.org/deep-sea-adventure-party
END:VEVENT
BEGIN:VTIMEZONE
TZID:US/Eastern
X-LIC-LOCATION:US/Eastern
BEGIN:DAYLIGHT
DTSTART:20220313T030000
TZNAME:EDT
TZOFFSETFROM:-0500
TZOFFSETTO:-0400
END:DAYLIGHT
END:VTIMEZONE
END:VCALENDAR
