BEGIN:VCALENDAR
VERSION:2.0
PRODID:-//Plone.org//NONSGML plone.app.event//EN
X-WR-TIMEZONE:US/Eastern
BEGIN:VEVENT
SUMMARY:BIDL Board Meeting
DTSTART;TZID=US/Eastern:20220818T090000
DTEND;TZID=US/Eastern:20220818T100000
DTSTAMP:20260422T180241Z
UID:62c50fa7b63d4250aac237e910deffa3@saas_stack_varnish:6080
CONTACT:Jacqueline LaFreniere\, 12314482701\, island.library@gmail.com
CREATED:20220805T152639Z
DESCRIPTION:Open to the public
LAST-MODIFIED:20220805T152645Z
LOCATION:Beaver Island District Library
URL:https://www.beaverisland.michlibrary.org/bidl-board-meeting
END:VEVENT
BEGIN:VTIMEZONE
TZID:US/Eastern
X-LIC-LOCATION:US/Eastern
BEGIN:DAYLIGHT
DTSTART:20220313T030000
TZNAME:EDT
TZOFFSETFROM:-0500
TZOFFSETTO:-0400
END:DAYLIGHT
END:VTIMEZONE
END:VCALENDAR
