BEGIN:VCALENDAR
VERSION:2.0
PRODID:-//Plone.org//NONSGML plone.app.event//EN
X-WR-TIMEZONE:US/Eastern
BEGIN:VEVENT
SUMMARY:Beaver Tales- let's get started again!
DTSTART;TZID=US/Eastern:20260411T110000
DTEND;TZID=US/Eastern:20260411T120000
DTSTAMP:20260422T163452Z
UID:c0cf422e93444c59bf85c075d706f697@saas_stack_varnish:6080
CONTACT:Jacqueline L LaFreniere\, 2314482701\, island.library@gmail.com
CREATED:20260328T193447Z
DESCRIPTION:Beaver Tales
LAST-MODIFIED:20260328T193451Z
LOCATION:Beaver Island District Library
URL:https://www.beaverisland.michlibrary.org/beaver-tales-lets-get-started
 -again
END:VEVENT
BEGIN:VTIMEZONE
TZID:US/Eastern
X-LIC-LOCATION:US/Eastern
BEGIN:DAYLIGHT
DTSTART:20260308T030000
TZNAME:EDT
TZOFFSETFROM:-0500
TZOFFSETTO:-0400
END:DAYLIGHT
END:VTIMEZONE
END:VCALENDAR
