BEGIN:VCALENDAR
VERSION:2.0
PRODID:-//Plone.org//NONSGML plone.app.event//EN
X-WR-TIMEZONE:US/Eastern
BEGIN:VEVENT
SUMMARY:Babies and Toddlers Mix Up
DTSTART;TZID=US/Eastern:20240716T100000
DTEND;TZID=US/Eastern:20240716T110000
DTSTAMP:20260424T050837Z
UID:fd7bd62c532340c39cff5405f9c705ca@saas_stack_varnish:6080
ATTENDEE;CN="Babies and Toddlers and their parents";ROLE=REQ-PARTICIPANT:B
 abies and Toddlers and their parents
CONTACT:Tara Walsh\, 2314482701\, island.library@gmail.com
CREATED:20240613T181443Z
DESCRIPTION:Babies and Toddlers library time.
LAST-MODIFIED:20240919T201926Z
LOCATION:Beaver Island District Library
URL:https://www.beaverisland.michlibrary.org/babies-and-toddlers-mix-up/20
 24-07-16
END:VEVENT
BEGIN:VTIMEZONE
TZID:US/Eastern
X-LIC-LOCATION:US/Eastern
BEGIN:DAYLIGHT
DTSTART:20240310T030000
TZNAME:EDT
TZOFFSETFROM:-0500
TZOFFSETTO:-0400
END:DAYLIGHT
END:VTIMEZONE
END:VCALENDAR
