BEGIN:VCALENDAR
VERSION:2.0
PRODID:-//Plone.org//NONSGML plone.app.event//EN
X-WR-TIMEZONE:US/Eastern
BEGIN:VEVENT
SUMMARY:Author Visit- Ellen Airgood
DTSTART;TZID=US/Eastern:20220810T190000
DTEND;TZID=US/Eastern:20220810T203000
DTSTAMP:20260422T180920Z
UID:f80938f60a634668a9cb0ca7bd206c05@saas_stack_varnish:6080
CONTACT:Jacqueline LaFreniere\, 12314482701\, island.library@gmail.com
CREATED:20220805T152421Z
DESCRIPTION:Ellen Airgood\, 2022 Michigan Notable Author\, will be visitin
 g the library on August 10th at 7 p.m. for a book signing and talk about h
 er book\, Tin Camp Road.
LAST-MODIFIED:20220805T152429Z
LOCATION:Beaver Island District Library
URL:https://www.beaverisland.michlibrary.org/author-visit-ellen-airgood
END:VEVENT
BEGIN:VTIMEZONE
TZID:US/Eastern
X-LIC-LOCATION:US/Eastern
BEGIN:DAYLIGHT
DTSTART:20220313T030000
TZNAME:EDT
TZOFFSETFROM:-0500
TZOFFSETTO:-0400
END:DAYLIGHT
END:VTIMEZONE
END:VCALENDAR
